BEGIN:VCALENDAR
VERSION:2.0
PRODID:-//wp-events-plugin.com//7.2.3.1//EN
TZID:Europe/Copenhagen
X-WR-TIMEZONE:Europe/Copenhagen
BEGIN:VEVENT
UID:19@mad-huset.com
DTSTART;TZID=Europe/Copenhagen:20251025T150000
DTEND;TZID=Europe/Copenhagen:20251025T150000
DTSTAMP:20250529T130214Z
URL:https://mad-huset.com/events/troels-trier/
SUMMARY:Troels Trier
DESCRIPTION:BESTIL BILLETTER
ATTACH;FMTTYPE=image/jpeg:https://mad-huset.com/wp-content/uploads/2025/05
 /Madhuset_Event_TroelsTrier.jpg
END:VEVENT
BEGIN:VTIMEZONE
TZID:Europe/Copenhagen
X-LIC-LOCATION:Europe/Copenhagen
BEGIN:DAYLIGHT
DTSTART:20250330T030000
TZOFFSETFROM:+0100
TZOFFSETTO:+0200
TZNAME:CEST
END:DAYLIGHT
END:VTIMEZONE
END:VCALENDAR