BEGIN:VCALENDAR
VERSION:2.0
PRODID:-//wp-events-plugin.com//7.2.3.1//EN
TZID:Europe/Copenhagen
X-WR-TIMEZONE:Europe/Copenhagen
BEGIN:VEVENT
UID:28@mad-huset.com
DTSTART;TZID=Europe/Copenhagen:20260321T200000
DTEND;TZID=Europe/Copenhagen:20260321T200000
DTSTAMP:20260126T154206Z
URL:https://mad-huset.com/events/sko-torp/
SUMMARY:Sko & Torp (UDSOLGT)
DESCRIPTION:
ATTACH;FMTTYPE=image/jpeg:https://mad-huset.com/wp-content/uploads/2025/11
 /SkoTorp.jpg
END:VEVENT
BEGIN:VTIMEZONE
TZID:Europe/Copenhagen
X-LIC-LOCATION:Europe/Copenhagen
BEGIN:STANDARD
DTSTART:20251026T020000
TZOFFSETFROM:+0200
TZOFFSETTO:+0100
TZNAME:CET
END:STANDARD
END:VTIMEZONE
END:VCALENDAR