BEGIN:VCALENDAR
VERSION:2.0
PRODID:-//wp-events-plugin.com//7.2.3.1//EN
TZID:Europe/Copenhagen
X-WR-TIMEZONE:Europe/Copenhagen
BEGIN:VEVENT
UID:24@mad-huset.com
DTSTART;TZID=Europe/Copenhagen:20251115T190000
DTEND;TZID=Europe/Copenhagen:20251115T190000
DTSTAMP:20251016T170846Z
URL:https://mad-huset.com/events/lecia-joensson/
SUMMARY:Lecia Jønsson
DESCRIPTION:BESTIL BILLETTER
ATTACH;FMTTYPE=image/jpeg:https://mad-huset.com/wp-content/uploads/2025/06
 /Madhuset_Event_Lecia.jpg
END:VEVENT
BEGIN:VTIMEZONE
TZID:Europe/Copenhagen
X-LIC-LOCATION:Europe/Copenhagen
BEGIN:STANDARD
DTSTART:20251026T020000
TZOFFSETFROM:+0200
TZOFFSETTO:+0100
TZNAME:CET
END:STANDARD
END:VTIMEZONE
END:VCALENDAR