BEGIN:VCALENDAR
VERSION:2.0
PRODID:-//wp-events-plugin.com//7.2.3.1//EN
TZID:Europe/Copenhagen
X-WR-TIMEZONE:Europe/Copenhagen
BEGIN:VEVENT
UID:23@mad-huset.com
DTSTART;TZID=Europe/Copenhagen:20251107T200000
DTEND;TZID=Europe/Copenhagen:20251107T200000
DTSTAMP:20251016T171127Z
URL:https://mad-huset.com/events/john-mogensen-jam/
SUMMARY:John Mogensen Jam (UDSOLGT)
DESCRIPTION:BESTIL BILLETTER\n\nDenne fredag skyder vi vores julefrokostsæ
 son i gang\, og vi lover det bliver festligt!
ATTACH;FMTTYPE=image/jpeg:https://mad-huset.com/wp-content/uploads/2025/06
 /Madhuset_Event_JohnMogensenJam.jpg
END:VEVENT
BEGIN:VTIMEZONE
TZID:Europe/Copenhagen
X-LIC-LOCATION:Europe/Copenhagen
BEGIN:STANDARD
DTSTART:20251026T020000
TZOFFSETFROM:+0200
TZOFFSETTO:+0100
TZNAME:CET
END:STANDARD
END:VTIMEZONE
END:VCALENDAR