BEGIN:VCALENDAR
VERSION:2.0
PRODID:-//wp-events-plugin.com//7.2.3.1//EN
TZID:Europe/Copenhagen
X-WR-TIMEZONE:Europe/Copenhagen
BEGIN:VEVENT
UID:18@mad-huset.com
DTSTART;TZID=Europe/Copenhagen:20251202T190000
DTEND;TZID=Europe/Copenhagen:20251202T190000
DTSTAMP:20251106T081613Z
URL:https://mad-huset.com/events/jakob-sveistrup-2/
SUMMARY:Jakob Sveistrup
DESCRIPTION:BESTIL BILLETTER\n\n[video width="1080" height="1920" mp4="http
 s://mad-huset.com/wp-content/uploads/2025/11/JakobSveistrup.mp4"][/video]
ATTACH;FMTTYPE=image/jpeg:https://mad-huset.com/wp-content/uploads/2025/01
 /Madhuset_Event_JakobSveistrup.jpg
END:VEVENT
BEGIN:VTIMEZONE
TZID:Europe/Copenhagen
X-LIC-LOCATION:Europe/Copenhagen
BEGIN:STANDARD
DTSTART:20251026T020000
TZOFFSETFROM:+0200
TZOFFSETTO:+0100
TZNAME:CET
END:STANDARD
END:VTIMEZONE
END:VCALENDAR