BEGIN:VCALENDAR
VERSION:2.0
PRODID:-//wp-events-plugin.com//7.2.3.1//EN
TZID:Europe/Copenhagen
X-WR-TIMEZONE:Europe/Copenhagen
BEGIN:VEVENT
UID:22@mad-huset.com
DTSTART;TZID=Europe/Copenhagen:20251010T200000
DTEND;TZID=Europe/Copenhagen:20251010T200000
DTSTAMP:20250908T133530Z
URL:https://mad-huset.com/events/gorm/
SUMMARY:Gorm
DESCRIPTION:BESTIL BILLETTER\n\n[video width="1280" height="720" mp4="https
 ://mad-huset.com/wp-content/uploads/2025/06/Gorm_0989.mp4"][/video]
ATTACH;FMTTYPE=image/jpeg:https://mad-huset.com/wp-content/uploads/2025/06
 /Madhuset_Event_Gorm.jpg
END:VEVENT
BEGIN:VTIMEZONE
TZID:Europe/Copenhagen
X-LIC-LOCATION:Europe/Copenhagen
BEGIN:DAYLIGHT
DTSTART:20250330T030000
TZOFFSETFROM:+0100
TZOFFSETTO:+0200
TZNAME:CEST
END:DAYLIGHT
END:VTIMEZONE
END:VCALENDAR